BEGIN:VCALENDAR
VERSION:2.0
PRODID:-//Mezzetti Cavi Sterlingati - ECPv6.15.20//NONSGML v1.0//EN
CALSCALE:GREGORIAN
METHOD:PUBLISH
X-WR-CALNAME:Mezzetti Cavi Sterlingati
X-ORIGINAL-URL:https://www.mezzetticavisterlingati.it
X-WR-CALDESC:Eventi per Mezzetti Cavi Sterlingati
REFRESH-INTERVAL;VALUE=DURATION:PT1H
X-Robots-Tag:noindex
X-PUBLISHED-TTL:PT1H
BEGIN:VTIMEZONE
TZID:UTC
BEGIN:STANDARD
TZOFFSETFROM:+0000
TZOFFSETTO:+0000
TZNAME:UTC
DTSTART:20200101T000000
END:STANDARD
END:VTIMEZONE
BEGIN:VEVENT
DTSTART;TZID=UTC:20221104T080000
DTEND;TZID=UTC:20221106T180000
DTSTAMP:20260420T152424
CREATED:20220104T102121Z
LAST-MODIFIED:20220724T092725Z
UID:2494-1667548800-1667757600@www.mezzetticavisterlingati.it
SUMMARY:83° FIERA DI AUTO\,MOTO\,CICLI E ACCESSORI D'EPOCA
DESCRIPTION:
URL:https://www.mezzetticavisterlingati.it/event/83-fiera-di-automotocicli-e-accessori-depoca/
LOCATION:NOVEGRO
ATTACH;FMTTYPE=image/jpeg:https://www.mezzetticavisterlingati.it/wp-content/uploads/2022/01/NOVEGRO-NOVEMBRE-scaled.jpg
END:VEVENT
BEGIN:VEVENT
DTSTART;TZID=UTC:20221020T080000
DTEND;TZID=UTC:20221023T190000
DTSTAMP:20260420T152424
CREATED:20220104T102323Z
LAST-MODIFIED:20220724T094836Z
UID:2497-1666252800-1666551600@www.mezzetticavisterlingati.it
SUMMARY:AUTO E MOTO D'EPOCA PADOVA 2022
DESCRIPTION:
URL:https://www.mezzetticavisterlingati.it/event/auto-e-moto-depoca-padova-2022/
LOCATION:Padova
ATTACH;FMTTYPE=image/jpeg:https://www.mezzetticavisterlingati.it/wp-content/uploads/2022/01/PADOVA.jpg
END:VEVENT
BEGIN:VEVENT
DTSTART;TZID=UTC:20221008T080000
DTEND;TZID=UTC:20221009T183000
DTSTAMP:20260420T152424
CREATED:20220724T093735Z
LAST-MODIFIED:20220724T093735Z
UID:2608-1665216000-1665340200@www.mezzetticavisterlingati.it
SUMMARY:41° mostra scambio GONZAGA (ex Reggio Emilia)
DESCRIPTION:41° mostra scambio GONZAGA ( ex reggio emilia) 8-9 ottobre 2022
URL:https://www.mezzetticavisterlingati.it/event/41-mostra-scambio-gonzaga-ex-reggio-emilia/
LOCATION:GONZAGA
ATTACH;FMTTYPE=image/jpeg:https://www.mezzetticavisterlingati.it/wp-content/uploads/2022/07/GONZAGA-scaled.jpg
END:VEVENT
BEGIN:VEVENT
DTSTART;TZID=UTC:20220909T073000
DTEND;TZID=UTC:20220911T193000
DTSTAMP:20260420T152424
CREATED:20220724T092439Z
LAST-MODIFIED:20220724T092439Z
UID:2601-1662708600-1662924600@www.mezzetticavisterlingati.it
SUMMARY:44° mostra scambio IMOLA
DESCRIPTION:44° mostra scambio IMOLA 9-10-11 settembre AUTODROMO DI IMOLA
URL:https://www.mezzetticavisterlingati.it/event/44-mostra-scambio-imola/
LOCATION:IMOLA
ATTACH;FMTTYPE=image/jpeg:https://www.mezzetticavisterlingati.it/wp-content/uploads/2022/07/IMOLA.jpg
END:VEVENT
BEGIN:VEVENT
DTSTART;TZID=UTC:20220528T080000
DTEND;TZID=UTC:20220529T170000
DTSTAMP:20260420T152424
CREATED:20220328T093120Z
LAST-MODIFIED:20220328T093120Z
UID:2586-1653724800-1653843600@www.mezzetticavisterlingati.it
SUMMARY:Automoto collection
DESCRIPTION:
URL:https://www.mezzetticavisterlingati.it/event/automoto-collection/
LOCATION:NOVEGRO
ATTACH;FMTTYPE=image/jpeg:https://www.mezzetticavisterlingati.it/wp-content/uploads/2022/03/IMG_20220328_105206-scaled.jpg
END:VEVENT
BEGIN:VEVENT
DTSTART;TZID=UTC:20220521T080000
DTEND;TZID=UTC:20220522T170000
DTSTAMP:20260420T152424
CREATED:20220328T092739Z
LAST-MODIFIED:20220328T092739Z
UID:2581-1653120000-1653238800@www.mezzetticavisterlingati.it
SUMMARY:32° MOSTRA SCAMBIO AUTO E MOTO D'EPOCA BASTIA UMBRA
DESCRIPTION:
URL:https://www.mezzetticavisterlingati.it/event/32-mostra-scambio-auto-e-moto-depoca-bastia-umbra/
LOCATION:BASTIA UMBRA
ATTACH;FMTTYPE=image/jpeg:https://www.mezzetticavisterlingati.it/wp-content/uploads/2022/03/automotoepocabu_volantino2022_rgb.jpg
END:VEVENT
BEGIN:VEVENT
DTSTART;TZID=UTC:20220428T080000
DTEND;TZID=UTC:20220501T170000
DTSTAMP:20260420T152425
CREATED:20220328T092354Z
LAST-MODIFIED:20220328T093825Z
UID:2579-1651132800-1651424400@www.mezzetticavisterlingati.it
SUMMARY:AUTOMOTORETRO' 2022
DESCRIPTION:
URL:https://www.mezzetticavisterlingati.it/event/automotoretro-2022/
LOCATION:TORINO
END:VEVENT
BEGIN:VEVENT
DTSTART;TZID=UTC:20220312T080000
DTEND;TZID=UTC:20220313T180000
DTSTAMP:20260420T152425
CREATED:20220104T100948Z
LAST-MODIFIED:20220104T110457Z
UID:2491-1647072000-1647194400@www.mezzetticavisterlingati.it
SUMMARY:32° MOSTRA SCAMBIO AUTO-MOTO-CICLI-E RICAMBI D'EPOCA
DESCRIPTION:
URL:https://www.mezzetticavisterlingati.it/event/32-mostra-scambio-auto-moto-cicli-e-ricambi-depoca/
LOCATION:LONIGO
ATTACH;FMTTYPE=image/jpeg:https://www.mezzetticavisterlingati.it/wp-content/uploads/2022/01/LONIGO-1-scaled.jpg
END:VEVENT
BEGIN:VEVENT
DTSTART;VALUE=DATE:20220305
DTEND;VALUE=DATE:20220307
DTSTAMP:20260420T152425
CREATED:20211121T164946Z
LAST-MODIFIED:20211203T134803Z
UID:1763-1646438400-1646611199@www.mezzetticavisterlingati.it
SUMMARY:MOSTRA SCAMBIO AUTO MOTO BICI D'EPOCA E RICAMBI
DESCRIPTION:Busto Arsizio mostra scambio auto moto bici e ricambi d’epoca \nMalpensafiere
URL:https://www.mezzetticavisterlingati.it/event/mostra-scambio-auto-moto-bici-depoca-e-ricambi/
END:VEVENT
BEGIN:VEVENT
DTSTART;VALUE=DATE:20220218
DTEND;VALUE=DATE:20220221
DTSTAMP:20260420T152425
CREATED:20211121T164516Z
LAST-MODIFIED:20220104T110902Z
UID:1761-1645142400-1645401599@www.mezzetticavisterlingati.it
SUMMARY:MOSTRA SCAMBIO NOVEGRO FEBBRAIO 2022
DESCRIPTION:Mostra scambio auto-moto-ciclo-accessori e ricambi d’epoca \nparco esposizioni Novegro
URL:https://www.mezzetticavisterlingati.it/event/mostra-scambio-novegro-febbraio-2022/
ATTACH;FMTTYPE=image/jpeg:https://www.mezzetticavisterlingati.it/wp-content/uploads/2021/11/NOVEGRO-FEBBRAIO-scaled.jpg
END:VEVENT
BEGIN:VEVENT
DTSTART;VALUE=DATE:20220115
DTEND;VALUE=DATE:20220117
DTSTAMP:20260420T152425
CREATED:20211121T163938Z
LAST-MODIFIED:20220104T111026Z
UID:1759-1642204800-1642377599@www.mezzetticavisterlingati.it
SUMMARY:AREZZ0 CLASSIC MOTORS 2022
DESCRIPTION:AREZZO CLASSIC MOTORS \n24°Mostra scambio veicoli da collezione
URL:https://www.mezzetticavisterlingati.it/event/arezz0-classic-motors-2022/
ATTACH;FMTTYPE=image/jpeg:https://www.mezzetticavisterlingati.it/wp-content/uploads/2021/11/AREZZO-scaled.jpg
END:VEVENT
BEGIN:VEVENT
DTSTART;TZID=UTC:20211016T080000
DTEND;TZID=UTC:20211017T170000
DTSTAMP:20260420T152425
CREATED:20210903T142846Z
LAST-MODIFIED:20210903T142846Z
UID:953-1634371200-1634490000@www.mezzetticavisterlingati.it
SUMMARY:Auto bici moto d’epoca e ricambi
DESCRIPTION:Auto bici moto d’epoca e ricambi
URL:https://www.mezzetticavisterlingati.it/event/auto-bici-moto-depoca-e-ricambi/
LOCATION:MalpensaFiere | Centro Fiere Congressi ed Eventi\, Indirizzo: Via XI Settembre\, 16\, Busto Arsizio\, Varese\, 21052\, Italia
ATTACH;FMTTYPE=image/jpeg:https://www.mezzetticavisterlingati.it/wp-content/uploads/2021/09/mostrascambio.jpeg
END:VEVENT
END:VCALENDAR