BEGIN:VCALENDAR
VERSION:2.0
PRODID:-//Mezzetti Cavi Sterlingati - ECPv6.15.20//NONSGML v1.0//EN
CALSCALE:GREGORIAN
METHOD:PUBLISH
X-ORIGINAL-URL:https://www.mezzetticavisterlingati.it
X-WR-CALDESC:Eventi per Mezzetti Cavi Sterlingati
REFRESH-INTERVAL;VALUE=DURATION:PT1H
X-Robots-Tag:noindex
X-PUBLISHED-TTL:PT1H
BEGIN:VTIMEZONE
TZID:UTC
BEGIN:STANDARD
TZOFFSETFROM:+0000
TZOFFSETTO:+0000
TZNAME:UTC
DTSTART:20210101T000000
END:STANDARD
END:VTIMEZONE
BEGIN:VEVENT
DTSTART;TZID=UTC:20240913T080000
DTEND;TZID=UTC:20240915T170000
DTSTAMP:20260420T121942
CREATED:20231124T154605Z
LAST-MODIFIED:20231124T154605Z
UID:2758-1726214400-1726419600@www.mezzetticavisterlingati.it
SUMMARY:46° MOSTRA SCAMBIO IMOLA
DESCRIPTION:
URL:https://www.mezzetticavisterlingati.it/event/46-mostra-scambio-imola/
LOCATION:autodromo di IMOLA
ATTACH;FMTTYPE=image/jpeg:https://www.mezzetticavisterlingati.it/wp-content/uploads/2023/11/IMOLA.jpg
END:VEVENT
BEGIN:VEVENT
DTSTART;TZID=UTC:20240525T080000
DTEND;TZID=UTC:20240526T170000
DTSTAMP:20260420T121942
CREATED:20240125T171159Z
LAST-MODIFIED:20240125T171159Z
UID:2775-1716624000-1716742800@www.mezzetticavisterlingati.it
SUMMARY:34° mostra scambio auto e moto d'epoca
DESCRIPTION:
URL:https://www.mezzetticavisterlingati.it/event/34-mostra-scambio-auto-e-moto-depoca/
LOCATION:BASTIA UMBRA
ATTACH;FMTTYPE=image/jpeg:https://www.mezzetticavisterlingati.it/wp-content/uploads/2024/01/BASTIA-UMBRA-scaled.jpg
END:VEVENT
BEGIN:VEVENT
DTSTART;TZID=UTC:20240413T080000
DTEND;TZID=UTC:20240414T180000
DTSTAMP:20260420T121942
CREATED:20231013T150518Z
LAST-MODIFIED:20231013T150518Z
UID:2742-1712995200-1713117600@www.mezzetticavisterlingati.it
SUMMARY:MOSTRA SCAMBIO TREVIGLIO
DESCRIPTION:
URL:https://www.mezzetticavisterlingati.it/event/mostra-scambio-treviglio/
LOCATION:TREVIGLIO (BG)
ATTACH;FMTTYPE=image/jpeg:https://www.mezzetticavisterlingati.it/wp-content/uploads/2023/10/TREVIGLIO--scaled.jpg
END:VEVENT
BEGIN:VEVENT
DTSTART;TZID=UTC:20240405T080000
DTEND;TZID=UTC:20240407T180000
DTSTAMP:20260420T121942
CREATED:20231013T150000Z
LAST-MODIFIED:20231013T150000Z
UID:2736-1712304000-1712512800@www.mezzetticavisterlingati.it
SUMMARY:43° Mostra Scambio C.A.M.E.R.  GONZAGA (Ex Reggio Emilia)
DESCRIPTION:
URL:https://www.mezzetticavisterlingati.it/event/43-mostra-scambio-c-a-m-e-r-gonzaga-ex-reggio-emilia/
LOCATION:GONZAGA
ATTACH;FMTTYPE=image/jpeg:https://www.mezzetticavisterlingati.it/wp-content/uploads/2023/10/GONZAGA-2024-scaled.jpg
END:VEVENT
BEGIN:VEVENT
DTSTART;TZID=UTC:20240323T080000
DTEND;TZID=UTC:20240324T180000
DTSTAMP:20260420T121942
CREATED:20231013T150306Z
LAST-MODIFIED:20231013T150306Z
UID:2739-1711180800-1711303200@www.mezzetticavisterlingati.it
SUMMARY:MOSTRA SCAMBIO BUSTO ARSIZIO
DESCRIPTION:
URL:https://www.mezzetticavisterlingati.it/event/mostra-scambio-busto-arsizio/
LOCATION:MalpensaFiere | Centro Fiere Congressi ed Eventi\, Indirizzo: Via XI Settembre\, 16\, Busto Arsizio\, Varese\, 21052\, Italia
ATTACH;FMTTYPE=image/jpeg:https://www.mezzetticavisterlingati.it/wp-content/uploads/2023/10/BUSTO-ARSIZIO-MARZO-scaled.jpg
END:VEVENT
BEGIN:VEVENT
DTSTART;TZID=UTC:20240309T080000
DTEND;TZID=UTC:20240310T170000
DTSTAMP:20260420T121942
CREATED:20240125T170925Z
LAST-MODIFIED:20240125T170925Z
UID:2772-1709971200-1710090000@www.mezzetticavisterlingati.it
SUMMARY:34° MOSTRA SCAMBIO AUTO-CICLI-E RICAMBI D'EPOCA
DESCRIPTION:
URL:https://www.mezzetticavisterlingati.it/event/34-mostra-scambio-auto-cicli-e-ricambi-depoca/
LOCATION:LONIGO
ATTACH;FMTTYPE=image/jpeg:https://www.mezzetticavisterlingati.it/wp-content/uploads/2024/01/LONIGO-scaled.jpg
END:VEVENT
BEGIN:VEVENT
DTSTART;TZID=UTC:20240216T080000
DTEND;TZID=UTC:20240218T180000
DTSTAMP:20260420T121942
CREATED:20231013T151211Z
LAST-MODIFIED:20231108T124803Z
UID:2748-1708070400-1708279200@www.mezzetticavisterlingati.it
SUMMARY:MOSTRA SCAMBIO  NOVEGRO
DESCRIPTION:
URL:https://www.mezzetticavisterlingati.it/event/mostra-scambio-novegro/
LOCATION:Parco esposizioni NOVEGRO
ATTACH;FMTTYPE=image/jpeg:https://www.mezzetticavisterlingati.it/wp-content/uploads/2023/10/NOVEGRO-FEBBRAIO-scaled.jpg
END:VEVENT
BEGIN:VEVENT
DTSTART;TZID=UTC:20240120T080000
DTEND;TZID=UTC:20240121T170000
DTSTAMP:20260420T121942
CREATED:20231108T125102Z
LAST-MODIFIED:20231108T125102Z
UID:2754-1705737600-1705856400@www.mezzetticavisterlingati.it
SUMMARY:mostra scambio CEREA
DESCRIPTION:
URL:https://www.mezzetticavisterlingati.it/event/mostra-scambio-cerea-2/
LOCATION:CEREA (VR)
ATTACH;FMTTYPE=image/jpeg:https://www.mezzetticavisterlingati.it/wp-content/uploads/2023/11/CEREA--scaled.jpg
END:VEVENT
BEGIN:VEVENT
DTSTART;TZID=UTC:20240113T080000
DTEND;TZID=UTC:20240114T180000
DTSTAMP:20260420T121942
CREATED:20231013T145021Z
LAST-MODIFIED:20231013T145021Z
UID:2730-1705132800-1705255200@www.mezzetticavisterlingati.it
SUMMARY:26° AREZZO CLASSIC MOTORS
DESCRIPTION:
URL:https://www.mezzetticavisterlingati.it/event/26-arezzo-classic-motors/
LOCATION:AREZZO
ATTACH;FMTTYPE=image/jpeg:https://www.mezzetticavisterlingati.it/wp-content/uploads/2023/10/AREZZO-2024.jpg
END:VEVENT
BEGIN:VEVENT
DTSTART;VALUE=DATE:20231208
DTEND;VALUE=DATE:20231209
DTSTAMP:20260420T121942
CREATED:20230612T095806Z
LAST-MODIFIED:20230612T095806Z
UID:2723-1701993600-1702079999@www.mezzetticavisterlingati.it
SUMMARY:RE MOTO due ruote dal passato
DESCRIPTION:
URL:https://www.mezzetticavisterlingati.it/event/re-moto-due-ruote-dal-passato/
LOCATION:Ferrara\, via della fiera 11\, FERRARA
ATTACH;FMTTYPE=image/jpeg:https://www.mezzetticavisterlingati.it/wp-content/uploads/2023/06/FERRARA-scaled.jpg
END:VEVENT
BEGIN:VEVENT
DTSTART;TZID=UTC:20231103T080000
DTEND;TZID=UTC:20231105T170000
DTSTAMP:20260420T121942
CREATED:20230108T171838Z
LAST-MODIFIED:20230915T095136Z
UID:2665-1698998400-1699203600@www.mezzetticavisterlingati.it
SUMMARY:MOSTRA SCAMBIO DI AUTO\,MOTO\,CICLO\,RICAMBI E ACCESSORI D'EPOCA
DESCRIPTION:
URL:https://www.mezzetticavisterlingati.it/event/mostra-scambio-di-automotocicloricambi-e-accessori-depoca-2/
LOCATION:NOVEGRO
ATTACH;FMTTYPE=image/jpeg:https://www.mezzetticavisterlingati.it/wp-content/uploads/2023/01/novegro-novembre-1-scaled.jpg
END:VEVENT
BEGIN:VEVENT
DTSTART;TZID=UTC:20231026T080000
DTEND;TZID=UTC:20231029T170000
DTSTAMP:20260420T121942
CREATED:20221102T130404Z
LAST-MODIFIED:20221102T130404Z
UID:2637-1698307200-1698598800@www.mezzetticavisterlingati.it
SUMMARY:AUTOMOTOD'EPOCA  BOLOGNA
DESCRIPTION:
URL:https://www.mezzetticavisterlingati.it/event/automotodepoca-bologna/
LOCATION:BOLOGNA
ATTACH;FMTTYPE=image/jpeg:https://www.mezzetticavisterlingati.it/wp-content/uploads/2022/11/bologna-bis.jpg
END:VEVENT
BEGIN:VEVENT
DTSTART;TZID=UTC:20231007T080000
DTEND;TZID=UTC:20231008T170000
DTSTAMP:20260420T121942
CREATED:20230108T171709Z
LAST-MODIFIED:20230501T110636Z
UID:2663-1696665600-1696784400@www.mezzetticavisterlingati.it
SUMMARY:AUTO MOTO BICI RICAMBI D'EPOCA
DESCRIPTION:
URL:https://www.mezzetticavisterlingati.it/event/auto-moto-bici-ricambi-depoca-2/
LOCATION:MalpensaFiere | Centro Fiere Congressi ed Eventi\, Indirizzo: Via XI Settembre\, 16\, Busto Arsizio\, Varese\, 21052\, Italia
ATTACH;FMTTYPE=image/jpeg:https://www.mezzetticavisterlingati.it/wp-content/uploads/2023/01/BUSTO-OTTOBRE-scaled.jpg
END:VEVENT
BEGIN:VEVENT
DTSTART;TZID=UTC:20230923T080000
DTEND;TZID=UTC:20230924T170000
DTSTAMP:20260420T121942
CREATED:20230612T095413Z
LAST-MODIFIED:20230612T095413Z
UID:2719-1695456000-1695574800@www.mezzetticavisterlingati.it
SUMMARY:25° mostra scambio internazionale di Caorle
DESCRIPTION:
URL:https://www.mezzetticavisterlingati.it/event/25-mostra-scambio-internazionale-di-caorle/
LOCATION:CAORLE
ATTACH;FMTTYPE=image/jpeg:https://www.mezzetticavisterlingati.it/wp-content/uploads/2023/06/CAORLE-scaled.jpg
END:VEVENT
BEGIN:VEVENT
DTSTART;TZID=UTC:20230908T080000
DTEND;TZID=UTC:20230910T170000
DTSTAMP:20260420T121942
CREATED:20230108T171306Z
LAST-MODIFIED:20230108T171306Z
UID:2659-1694160000-1694365200@www.mezzetticavisterlingati.it
SUMMARY:45° MOSTRA SCAMBIO IMOLA
DESCRIPTION:
URL:https://www.mezzetticavisterlingati.it/event/45-mostra-scambio-imola/
LOCATION:IMOLA
ATTACH;FMTTYPE=image/jpeg:https://www.mezzetticavisterlingati.it/wp-content/uploads/2023/01/imola-.jpg
END:VEVENT
BEGIN:VEVENT
DTSTART;TZID=UTC:20230526T080000
DTEND;TZID=UTC:20230528T170000
DTSTAMP:20260420T121942
CREATED:20221102T125855Z
LAST-MODIFIED:20230110T170756Z
UID:2631-1685088000-1685293200@www.mezzetticavisterlingati.it
SUMMARY:42° MOSTRA SCAMBIO GONZAGA (MN)
DESCRIPTION:
URL:https://www.mezzetticavisterlingati.it/event/42-mostra-scambio-gonzaga-mn/
LOCATION:GONZAGA
ATTACH;FMTTYPE=image/jpeg:https://www.mezzetticavisterlingati.it/wp-content/uploads/2022/11/gonzaga-1.jpg
END:VEVENT
BEGIN:VEVENT
DTSTART;TZID=UTC:20230520T080000
DTEND;TZID=UTC:20230521T170000
DTSTAMP:20260420T121942
CREATED:20230108T171028Z
LAST-MODIFIED:20230130T174438Z
UID:2657-1684569600-1684688400@www.mezzetticavisterlingati.it
SUMMARY:33° MOSTRA SCAMBIO BASTIA UMBRA
DESCRIPTION:
URL:https://www.mezzetticavisterlingati.it/event/33-mostra-scambio-bastia-umbra/
LOCATION:BASTIA UMBRA
ATTACH;FMTTYPE=image/jpeg:https://www.mezzetticavisterlingati.it/wp-content/uploads/2023/01/bastia-umbra-scaled.jpg
END:VEVENT
BEGIN:VEVENT
DTSTART;TZID=UTC:20230422T080000
DTEND;TZID=UTC:20230423T170000
DTSTAMP:20260420T121942
CREATED:20230108T170802Z
LAST-MODIFIED:20230223T170157Z
UID:2655-1682150400-1682269200@www.mezzetticavisterlingati.it
SUMMARY:AUTO COLLECTION
DESCRIPTION:
URL:https://www.mezzetticavisterlingati.it/event/auto-collection/
LOCATION:NOVEGRO
ATTACH;FMTTYPE=image/jpeg:https://www.mezzetticavisterlingati.it/wp-content/uploads/2023/01/Novegro-aprile-scaled.jpg
END:VEVENT
BEGIN:VEVENT
DTSTART;TZID=UTC:20230325T080000
DTEND;TZID=UTC:20230326T170000
DTSTAMP:20260420T121942
CREATED:20221102T130116Z
LAST-MODIFIED:20230108T165143Z
UID:2634-1679731200-1679850000@www.mezzetticavisterlingati.it
SUMMARY:AUTO MOTO BICI RICAMBI D'EPOCA
DESCRIPTION:
URL:https://www.mezzetticavisterlingati.it/event/auto-moto-bici-ricambi-depoca/
LOCATION:MalpensaFiere | Centro Fiere Congressi ed Eventi\, Indirizzo: Via XI Settembre\, 16\, Busto Arsizio\, Varese\, 21052\, Italia
ATTACH;FMTTYPE=image/jpeg:https://www.mezzetticavisterlingati.it/wp-content/uploads/2022/11/busto-arsizio-marzo.jpg
END:VEVENT
BEGIN:VEVENT
DTSTART;TZID=UTC:20230311T080000
DTEND;TZID=UTC:20230312T170000
DTSTAMP:20260420T121942
CREATED:20230108T170621Z
LAST-MODIFIED:20230108T170621Z
UID:2652-1678521600-1678640400@www.mezzetticavisterlingati.it
SUMMARY:33° MOSTRA SCAMBIO AUTO-MOTO-CICLI E RICAMBI D'EPOCA
DESCRIPTION:
URL:https://www.mezzetticavisterlingati.it/event/33-mostra-scambio-auto-moto-cicli-e-ricambi-depoca/
LOCATION:LONIGO
ATTACH;FMTTYPE=image/jpeg:https://www.mezzetticavisterlingati.it/wp-content/uploads/2023/01/lonigo.jpg
END:VEVENT
BEGIN:VEVENT
DTSTART;TZID=UTC:20230303T080000
DTEND;TZID=UTC:20230305T170000
DTSTAMP:20260420T121942
CREATED:20221102T125434Z
LAST-MODIFIED:20230130T174213Z
UID:2628-1677830400-1678035600@www.mezzetticavisterlingati.it
SUMMARY:40° AUTOMOTORETRO' PARMA
DESCRIPTION:40°  AUTOMOTORETRO’
URL:https://www.mezzetticavisterlingati.it/event/40-automotoretro-torino/
LOCATION:PARMA
ATTACH;FMTTYPE=image/jpeg:https://www.mezzetticavisterlingati.it/wp-content/uploads/2022/11/parma-2-scaled.jpg
END:VEVENT
BEGIN:VEVENT
DTSTART;TZID=UTC:20230217T080000
DTEND;TZID=UTC:20230219T170000
DTSTAMP:20260420T121942
CREATED:20230108T170245Z
LAST-MODIFIED:20230108T170245Z
UID:2649-1676620800-1676826000@www.mezzetticavisterlingati.it
SUMMARY:MOSTRA SCAMBIO DI AUTO\,MOTO\,CICLO\,RICAMBI E ACCESSORI D'EPOCA
DESCRIPTION:
URL:https://www.mezzetticavisterlingati.it/event/mostra-scambio-di-automotocicloricambi-e-accessori-depoca/
LOCATION:NOVEGRO
ATTACH;FMTTYPE=image/jpeg:https://www.mezzetticavisterlingati.it/wp-content/uploads/2023/01/novegro-febbraio-scaled.jpg
END:VEVENT
BEGIN:VEVENT
DTSTART;TZID=UTC:20230121T080000
DTEND;TZID=UTC:20230122T170000
DTSTAMP:20260420T121942
CREATED:20221102T124947Z
LAST-MODIFIED:20221102T124947Z
UID:2623-1674288000-1674406800@www.mezzetticavisterlingati.it
SUMMARY:mostra scambio CEREA
DESCRIPTION:
URL:https://www.mezzetticavisterlingati.it/event/mostra-scambio-cerea/
LOCATION:CEREA (VR)
ATTACH;FMTTYPE=image/jpeg:https://www.mezzetticavisterlingati.it/wp-content/uploads/2022/11/cerea-scaled.jpg
END:VEVENT
BEGIN:VEVENT
DTSTART;TZID=UTC:20230114T080000
DTEND;TZID=UTC:20230115T170000
DTSTAMP:20260420T121942
CREATED:20221102T124550Z
LAST-MODIFIED:20221102T125155Z
UID:2618-1673683200-1673802000@www.mezzetticavisterlingati.it
SUMMARY:AREZZO CLASSIC MOTORS
DESCRIPTION:25° mostrascambio veicoli da collezione
URL:https://www.mezzetticavisterlingati.it/event/arezzo-classic-motors/
LOCATION:AREZZO
ATTACH;FMTTYPE=image/jpeg:https://www.mezzetticavisterlingati.it/wp-content/uploads/2022/11/arezzo-scaled.jpg
END:VEVENT
BEGIN:VEVENT
DTSTART;TZID=UTC:20221104T080000
DTEND;TZID=UTC:20221106T180000
DTSTAMP:20260420T121942
CREATED:20220104T102121Z
LAST-MODIFIED:20220724T092725Z
UID:2494-1667548800-1667757600@www.mezzetticavisterlingati.it
SUMMARY:83° FIERA DI AUTO\,MOTO\,CICLI E ACCESSORI D'EPOCA
DESCRIPTION:
URL:https://www.mezzetticavisterlingati.it/event/83-fiera-di-automotocicli-e-accessori-depoca/
LOCATION:NOVEGRO
ATTACH;FMTTYPE=image/jpeg:https://www.mezzetticavisterlingati.it/wp-content/uploads/2022/01/NOVEGRO-NOVEMBRE-scaled.jpg
END:VEVENT
BEGIN:VEVENT
DTSTART;TZID=UTC:20221020T080000
DTEND;TZID=UTC:20221023T190000
DTSTAMP:20260420T121942
CREATED:20220104T102323Z
LAST-MODIFIED:20220724T094836Z
UID:2497-1666252800-1666551600@www.mezzetticavisterlingati.it
SUMMARY:AUTO E MOTO D'EPOCA PADOVA 2022
DESCRIPTION:
URL:https://www.mezzetticavisterlingati.it/event/auto-e-moto-depoca-padova-2022/
LOCATION:Padova
ATTACH;FMTTYPE=image/jpeg:https://www.mezzetticavisterlingati.it/wp-content/uploads/2022/01/PADOVA.jpg
END:VEVENT
BEGIN:VEVENT
DTSTART;TZID=UTC:20221008T080000
DTEND;TZID=UTC:20221009T183000
DTSTAMP:20260420T121942
CREATED:20220724T093735Z
LAST-MODIFIED:20220724T093735Z
UID:2608-1665216000-1665340200@www.mezzetticavisterlingati.it
SUMMARY:41° mostra scambio GONZAGA (ex Reggio Emilia)
DESCRIPTION:41° mostra scambio GONZAGA ( ex reggio emilia) 8-9 ottobre 2022
URL:https://www.mezzetticavisterlingati.it/event/41-mostra-scambio-gonzaga-ex-reggio-emilia/
LOCATION:GONZAGA
ATTACH;FMTTYPE=image/jpeg:https://www.mezzetticavisterlingati.it/wp-content/uploads/2022/07/GONZAGA-scaled.jpg
END:VEVENT
BEGIN:VEVENT
DTSTART;TZID=UTC:20220909T073000
DTEND;TZID=UTC:20220911T193000
DTSTAMP:20260420T121942
CREATED:20220724T092439Z
LAST-MODIFIED:20220724T092439Z
UID:2601-1662708600-1662924600@www.mezzetticavisterlingati.it
SUMMARY:44° mostra scambio IMOLA
DESCRIPTION:44° mostra scambio IMOLA 9-10-11 settembre AUTODROMO DI IMOLA
URL:https://www.mezzetticavisterlingati.it/event/44-mostra-scambio-imola/
LOCATION:IMOLA
ATTACH;FMTTYPE=image/jpeg:https://www.mezzetticavisterlingati.it/wp-content/uploads/2022/07/IMOLA.jpg
END:VEVENT
BEGIN:VEVENT
DTSTART;TZID=UTC:20220528T080000
DTEND;TZID=UTC:20220529T170000
DTSTAMP:20260420T121942
CREATED:20220328T093120Z
LAST-MODIFIED:20220328T093120Z
UID:2586-1653724800-1653843600@www.mezzetticavisterlingati.it
SUMMARY:Automoto collection
DESCRIPTION:
URL:https://www.mezzetticavisterlingati.it/event/automoto-collection/
LOCATION:NOVEGRO
ATTACH;FMTTYPE=image/jpeg:https://www.mezzetticavisterlingati.it/wp-content/uploads/2022/03/IMG_20220328_105206-scaled.jpg
END:VEVENT
BEGIN:VEVENT
DTSTART;TZID=UTC:20220521T080000
DTEND;TZID=UTC:20220522T170000
DTSTAMP:20260420T121942
CREATED:20220328T092739Z
LAST-MODIFIED:20220328T092739Z
UID:2581-1653120000-1653238800@www.mezzetticavisterlingati.it
SUMMARY:32° MOSTRA SCAMBIO AUTO E MOTO D'EPOCA BASTIA UMBRA
DESCRIPTION:
URL:https://www.mezzetticavisterlingati.it/event/32-mostra-scambio-auto-e-moto-depoca-bastia-umbra/
LOCATION:BASTIA UMBRA
ATTACH;FMTTYPE=image/jpeg:https://www.mezzetticavisterlingati.it/wp-content/uploads/2022/03/automotoepocabu_volantino2022_rgb.jpg
END:VEVENT
END:VCALENDAR